BEGIN:VCALENDAR
VERSION:2.0
PRODID:-//Catholic Memorial High School - ECPv6.15.17.1//NONSGML v1.0//EN
CALSCALE:GREGORIAN
METHOD:PUBLISH
X-ORIGINAL-URL:https://www.catholicmemorial.net
X-WR-CALDESC:Events for Catholic Memorial High School
REFRESH-INTERVAL;VALUE=DURATION:PT1H
X-Robots-Tag:noindex
X-PUBLISHED-TTL:PT1H
BEGIN:VTIMEZONE
TZID:UTC
BEGIN:STANDARD
TZOFFSETFROM:+0000
TZOFFSETTO:+0000
TZNAME:UTC
DTSTART:20220101T000000
END:STANDARD
END:VTIMEZONE
BEGIN:VEVENT
DTSTART;VALUE=DATE:20230407
DTEND;VALUE=DATE:20230415
DTSTAMP:20260423T061117
CREATED:20221210T032105Z
LAST-MODIFIED:20221210T032523Z
UID:10000266-1680825600-1681516799@www.catholicmemorial.net
SUMMARY:No Classes - Easter Break
DESCRIPTION:
URL:https://www.catholicmemorial.net/event/easter-break/
CATEGORIES:General Events,Homepage Events
END:VEVENT
END:VCALENDAR