BEGIN:VCALENDAR
VERSION:2.0
PRODID:-//Catholic Memorial High School - ECPv6.15.17.1//NONSGML v1.0//EN
CALSCALE:GREGORIAN
METHOD:PUBLISH
X-WR-CALNAME:Catholic Memorial High School
X-ORIGINAL-URL:https://www.catholicmemorial.net
X-WR-CALDESC:Events for Catholic Memorial High School
REFRESH-INTERVAL;VALUE=DURATION:PT1H
X-Robots-Tag:noindex
X-PUBLISHED-TTL:PT1H
BEGIN:VTIMEZONE
TZID:UTC
BEGIN:STANDARD
TZOFFSETFROM:+0000
TZOFFSETTO:+0000
TZNAME:UTC
DTSTART:20220101T000000
END:STANDARD
END:VTIMEZONE
BEGIN:VEVENT
DTSTART;VALUE=DATE:20230501
DTEND;VALUE=DATE:20230506
DTSTAMP:20260425T100306
CREATED:20221210T032712Z
LAST-MODIFIED:20221210T032712Z
UID:10000270-1682899200-1683331199@www.catholicmemorial.net
SUMMARY:CMH Student Art Show
DESCRIPTION:
URL:https://www.catholicmemorial.net/event/cmh-student-art-show/
END:VEVENT
BEGIN:VEVENT
DTSTART;TZID=UTC:20230505T080000
DTEND;TZID=UTC:20230505T170000
DTSTAMP:20260425T100306
CREATED:20221210T032750Z
LAST-MODIFIED:20221210T032750Z
UID:10000271-1683273600-1683306000@www.catholicmemorial.net
SUMMARY:Lives of Service Mass
DESCRIPTION:
URL:https://www.catholicmemorial.net/event/lives-of-service-mass-2/
CATEGORIES:General Events,Homepage Events
END:VEVENT
END:VCALENDAR