BEGIN:VCALENDAR
VERSION:2.0
PRODID:-//Catholic Memorial High School - ECPv6.15.17.1//NONSGML v1.0//EN
CALSCALE:GREGORIAN
METHOD:PUBLISH
X-WR-CALNAME:Catholic Memorial High School
X-ORIGINAL-URL:https://www.catholicmemorial.net
X-WR-CALDESC:Events for Catholic Memorial High School
REFRESH-INTERVAL;VALUE=DURATION:PT1H
X-Robots-Tag:noindex
X-PUBLISHED-TTL:PT1H
BEGIN:VTIMEZONE
TZID:UTC
BEGIN:STANDARD
TZOFFSETFROM:+0000
TZOFFSETTO:+0000
TZNAME:UTC
DTSTART:20250101T000000
END:STANDARD
END:VTIMEZONE
BEGIN:VTIMEZONE
TZID:America/Chicago
BEGIN:DAYLIGHT
TZOFFSETFROM:-0600
TZOFFSETTO:-0500
TZNAME:CDT
DTSTART:20250309T080000
END:DAYLIGHT
BEGIN:STANDARD
TZOFFSETFROM:-0500
TZOFFSETTO:-0600
TZNAME:CST
DTSTART:20251102T070000
END:STANDARD
BEGIN:DAYLIGHT
TZOFFSETFROM:-0600
TZOFFSETTO:-0500
TZNAME:CDT
DTSTART:20260308T080000
END:DAYLIGHT
BEGIN:STANDARD
TZOFFSETFROM:-0500
TZOFFSETTO:-0600
TZNAME:CST
DTSTART:20261101T070000
END:STANDARD
BEGIN:DAYLIGHT
TZOFFSETFROM:-0600
TZOFFSETTO:-0500
TZNAME:CDT
DTSTART:20270314T080000
END:DAYLIGHT
BEGIN:STANDARD
TZOFFSETFROM:-0500
TZOFFSETTO:-0600
TZNAME:CST
DTSTART:20271107T070000
END:STANDARD
END:VTIMEZONE
BEGIN:VEVENT
DTSTART;TZID=UTC:20260822T160000
DTEND;TZID=UTC:20260823T200000
DTSTAMP:20260423T164942
CREATED:20251211T001032Z
LAST-MODIFIED:20260210T223612Z
UID:10000337-1787414400-1787515200@www.catholicmemorial.net
SUMMARY:Class of 1966 – Reunion
DESCRIPTION:Class of 1966 — Reunion \nSAVE THE DATE! \nSaturday\, August 22\, 2026 \n4:00 to 8:00 p.m. \n\nPlace: Waukesha Elks Club \nCost per person: $20.00 \n(includes snacks and finger foods) \nCash bar \n\nContact: Dede (Goerke) Gibbs \n414-213-6478 \n(phone or text) \ne-mail: deg348@gmail.com
URL:https://www.catholicmemorial.net/event/class-of-1966-60th-reunion/
CATEGORIES:Reunions
ATTACH;FMTTYPE=image/jpeg:https://www.catholicmemorial.net/wp-content/uploads/2025/12/Class-of-1966.jpg
END:VEVENT
BEGIN:VEVENT
DTSTART;VALUE=DATE:20261002
DTEND;VALUE=DATE:20261004
DTSTAMP:20260423T164942
CREATED:20260225T141046Z
LAST-MODIFIED:20260225T141911Z
UID:10000338-1790899200-1791071999@www.catholicmemorial.net
SUMMARY:Class of 1986 – Reunion
DESCRIPTION:SAVE THE DATE! \nOctober 2-3 \nMore details to come!
URL:https://www.catholicmemorial.net/event/class-of-1986-reunion/
CATEGORIES:Reunions
ATTACH;FMTTYPE=image/jpeg:https://www.catholicmemorial.net/wp-content/uploads/2026/02/Class-of-1986.jpg
END:VEVENT
END:VCALENDAR