BEGIN:VCALENDAR
VERSION:2.0
PRODID:-//Catholic Memorial High School - ECPv6.15.17.1//NONSGML v1.0//EN
CALSCALE:GREGORIAN
METHOD:PUBLISH
X-ORIGINAL-URL:https://www.catholicmemorial.net
X-WR-CALDESC:Events for Catholic Memorial High School
REFRESH-INTERVAL;VALUE=DURATION:PT1H
X-Robots-Tag:noindex
X-PUBLISHED-TTL:PT1H
BEGIN:VTIMEZONE
TZID:UTC
BEGIN:STANDARD
TZOFFSETFROM:+0000
TZOFFSETTO:+0000
TZNAME:UTC
DTSTART:20200101T000000
END:STANDARD
END:VTIMEZONE
BEGIN:VEVENT
DTSTART;TZID=UTC:20211124T070000
DTEND;TZID=UTC:20211124T190000
DTSTAMP:20260424T131256
CREATED:20211115T204654Z
LAST-MODIFIED:20211115T204654Z
UID:10000157-1637737200-1637780400@www.catholicmemorial.net
SUMMARY:Crusader Day of Service
DESCRIPTION:
URL:https://www.catholicmemorial.net/event/crusader-day-of-service-2021/
CATEGORIES:General Events,Homepage Events
END:VEVENT
BEGIN:VEVENT
DTSTART;TZID=UTC:20211115T080000
DTEND;TZID=UTC:20211115T170000
DTSTAMP:20260424T131256
CREATED:20211115T204858Z
LAST-MODIFIED:20211115T204858Z
UID:10000158-1636963200-1636995600@www.catholicmemorial.net
SUMMARY:Offices Closes Early
DESCRIPTION:Front offices will close at 12:30pm
URL:https://www.catholicmemorial.net/event/offices-closes-early/
CATEGORIES:General Events
END:VEVENT
BEGIN:VEVENT
DTSTART;VALUE=DATE:20211115
DTEND;VALUE=DATE:20211116
DTSTAMP:20260424T131256
CREATED:20210818T221400Z
LAST-MODIFIED:20210818T224610Z
UID:10000220-1636934400-1637020799@www.catholicmemorial.net
SUMMARY:2nd Quarter Progress Reports
DESCRIPTION:
URL:https://www.catholicmemorial.net/event/2nd-quarter-progress-reports/
CATEGORIES:General Events
END:VEVENT
BEGIN:VEVENT
DTSTART;TZID=UTC:20211113T080000
DTEND;TZID=UTC:20211113T113000
DTSTAMP:20260424T131256
CREATED:20210818T221149Z
LAST-MODIFIED:20210818T221149Z
UID:10000219-1636790400-1636803000@www.catholicmemorial.net
SUMMARY:8th Grade Testing
DESCRIPTION:
URL:https://www.catholicmemorial.net/event/8th-grade-testing/
CATEGORIES:General Events
END:VEVENT
BEGIN:VEVENT
DTSTART;TZID=UTC:20211105T080000
DTEND;TZID=UTC:20211105T113000
DTSTAMP:20260424T131256
CREATED:20210818T221118Z
LAST-MODIFIED:20210818T221118Z
UID:10000218-1636099200-1636111800@www.catholicmemorial.net
SUMMARY:No Classes - 8th Grade Testing
DESCRIPTION:
URL:https://www.catholicmemorial.net/event/no-classes-8th-grade-testing/
CATEGORIES:General Events,Homepage Events
END:VEVENT
BEGIN:VEVENT
DTSTART;VALUE=DATE:20211105
DTEND;VALUE=DATE:20211106
DTSTAMP:20260424T131256
CREATED:20211105T181737Z
LAST-MODIFIED:20211105T181737Z
UID:10000222-1636070400-1636156799@www.catholicmemorial.net
SUMMARY:Crusader Day of Service
DESCRIPTION:
URL:https://www.catholicmemorial.net/event/crusader-day-of-service/
CATEGORIES:General Events,Homepage Events
END:VEVENT
BEGIN:VEVENT
DTSTART;TZID=UTC:20211104T100000
DTEND;TZID=UTC:20211104T160000
DTSTAMP:20260424T131256
CREATED:20210818T220942Z
LAST-MODIFIED:20210818T221034Z
UID:10000217-1636020000-1636041600@www.catholicmemorial.net
SUMMARY:No Classes - Parent/Teacher Conferences
DESCRIPTION:
URL:https://www.catholicmemorial.net/event/no-classes-parent-teacher-conferences/
CATEGORIES:General Events,Homepage Events
END:VEVENT
BEGIN:VEVENT
DTSTART;VALUE=DATE:20211101
DTEND;VALUE=DATE:20211102
DTSTAMP:20260424T131256
CREATED:20210818T220847Z
LAST-MODIFIED:20210818T220847Z
UID:10000216-1635724800-1635811199@www.catholicmemorial.net
SUMMARY:All Saints Day - All School Mass (Honor Attire)
DESCRIPTION:
URL:https://www.catholicmemorial.net/event/all-saints-day-all-school-mass-honor-attire/
CATEGORIES:General Events,Homepage Events
END:VEVENT
BEGIN:VEVENT
DTSTART;TZID=UTC:20211030T193000
DTEND;TZID=UTC:20211030T220000
DTSTAMP:20260424T131256
CREATED:20210818T220809Z
LAST-MODIFIED:20210818T220809Z
UID:10000215-1635622200-1635631200@www.catholicmemorial.net
SUMMARY:Halloween Dance
DESCRIPTION:
URL:https://www.catholicmemorial.net/event/halloween-dance/
CATEGORIES:General Events,Homepage Events
END:VEVENT
BEGIN:VEVENT
DTSTART;TZID=UTC:20211017T100000
DTEND;TZID=UTC:20211017T130000
DTSTAMP:20260424T131256
CREATED:20211017T220612Z
LAST-MODIFIED:20211007T201034Z
UID:10000221-1634464800-1634475600@www.catholicmemorial.net
SUMMARY:Open House
DESCRIPTION:
URL:https://www.catholicmemorial.net/event/open-house/
CATEGORIES:General Events,Homepage Events
END:VEVENT
BEGIN:VEVENT
DTSTART;TZID=UTC:20211013T080000
DTEND;TZID=UTC:20211013T170000
DTSTAMP:20260424T131256
CREATED:20210818T220535Z
LAST-MODIFIED:20210818T220535Z
UID:10000214-1634112000-1634144400@www.catholicmemorial.net
SUMMARY:Early Release at 12:30pm
DESCRIPTION:
URL:https://www.catholicmemorial.net/event/early-release-at-1230pm/
CATEGORIES:General Events
END:VEVENT
BEGIN:VEVENT
DTSTART;VALUE=DATE:20211011
DTEND;VALUE=DATE:20211012
DTSTAMP:20260424T131256
CREATED:20210818T220307Z
LAST-MODIFIED:20210818T220307Z
UID:10000213-1633910400-1633996799@www.catholicmemorial.net
SUMMARY:All School Mass (Honor Attire)
DESCRIPTION:
URL:https://www.catholicmemorial.net/event/all-school-mass-honor-attire-2/
CATEGORIES:General Events,Homepage Events
END:VEVENT
BEGIN:VEVENT
DTSTART;VALUE=DATE:20211008
DTEND;VALUE=DATE:20211009
DTSTAMP:20260424T131256
CREATED:20210818T220211Z
LAST-MODIFIED:20210818T220211Z
UID:10000212-1633651200-1633737599@www.catholicmemorial.net
SUMMARY:No Classes - Teacher In-Service
DESCRIPTION:
URL:https://www.catholicmemorial.net/event/no-classes-teacher-in-service-2/
CATEGORIES:General Events,Homepage Events
END:VEVENT
BEGIN:VEVENT
DTSTART;TZID=UTC:20210928T100000
DTEND;TZID=UTC:20210928T140000
DTSTAMP:20260424T131256
CREATED:20210818T215956Z
LAST-MODIFIED:20210818T215956Z
UID:10000211-1632823200-1632837600@www.catholicmemorial.net
SUMMARY:Student Assistance Day
DESCRIPTION:
URL:https://www.catholicmemorial.net/event/student-assistance-day/
CATEGORIES:General Events
END:VEVENT
BEGIN:VEVENT
DTSTART;TZID=UTC:20210924T110000
DTEND;TZID=UTC:20210924T130000
DTSTAMP:20260424T131256
CREATED:20210818T215804Z
LAST-MODIFIED:20210818T215855Z
UID:10000210-1632481200-1632488400@www.catholicmemorial.net
SUMMARY:Athletic Hall of Fame Inductions
DESCRIPTION:
URL:https://www.catholicmemorial.net/event/athletic-hall-of-fame/
CATEGORIES:General Events,Homepage Events
END:VEVENT
BEGIN:VEVENT
DTSTART;TZID=UTC:20210924T080000
DTEND;TZID=UTC:20210924T100000
DTSTAMP:20260424T131256
CREATED:20210818T215646Z
LAST-MODIFIED:20210826T190746Z
UID:10000209-1632470400-1632477600@www.catholicmemorial.net
SUMMARY:Crusader Walk
DESCRIPTION:
URL:https://www.catholicmemorial.net/event/crusader-walk/
CATEGORIES:General Events,Homepage Events
END:VEVENT
BEGIN:VEVENT
DTSTART;VALUE=DATE:20210921
DTEND;VALUE=DATE:20210922
DTSTAMP:20260424T131256
CREATED:20210818T214918Z
LAST-MODIFIED:20210818T214918Z
UID:10000208-1632182400-1632268799@www.catholicmemorial.net
SUMMARY:1st Quarter Progress Reports
DESCRIPTION:
URL:https://www.catholicmemorial.net/event/1st-quarter-progress-reports/
CATEGORIES:General Events
END:VEVENT
BEGIN:VEVENT
DTSTART;TZID=UTC:20210920T080000
DTEND;TZID=UTC:20210924T190000
DTSTAMP:20260424T131256
CREATED:20210818T211809Z
LAST-MODIFIED:20210818T211821Z
UID:10000206-1632124800-1632510000@www.catholicmemorial.net
SUMMARY:Homecoming Week 2021
DESCRIPTION:
URL:https://www.catholicmemorial.net/event/homecoming-week-2021/
CATEGORIES:General Events,Homepage Events
END:VEVENT
BEGIN:VEVENT
DTSTART;VALUE=DATE:20210920
DTEND;VALUE=DATE:20210921
DTSTAMP:20260424T131256
CREATED:20210818T212416Z
LAST-MODIFIED:20210818T212416Z
UID:10000207-1632096000-1632182399@www.catholicmemorial.net
SUMMARY:All School Mass (Honor Attire)
DESCRIPTION:
URL:https://www.catholicmemorial.net/event/all-school-mass-honor-attire/
CATEGORIES:General Events,Homepage Events
END:VEVENT
BEGIN:VEVENT
DTSTART;VALUE=DATE:20210906
DTEND;VALUE=DATE:20210907
DTSTAMP:20260424T131256
CREATED:20210818T211710Z
LAST-MODIFIED:20210818T220053Z
UID:10000205-1630886400-1630972799@www.catholicmemorial.net
SUMMARY:No Classes\, Labor Day
DESCRIPTION:
URL:https://www.catholicmemorial.net/event/no-classes-labor-day/
CATEGORIES:General Events
END:VEVENT
BEGIN:VEVENT
DTSTART;VALUE=DATE:20210903
DTEND;VALUE=DATE:20210904
DTSTAMP:20260424T131256
CREATED:20210818T211643Z
LAST-MODIFIED:20210818T211643Z
UID:10000204-1630627200-1630713599@www.catholicmemorial.net
SUMMARY:No Classes\, Teacher In-Service
DESCRIPTION:
URL:https://www.catholicmemorial.net/event/no-classes-teacher-in-service/
CATEGORIES:General Events
END:VEVENT
BEGIN:VEVENT
DTSTART;TZID=UTC:20210901T183000
DTEND;TZID=UTC:20210901T210000
DTSTAMP:20260424T131256
CREATED:20210818T211421Z
LAST-MODIFIED:20210818T211421Z
UID:10000203-1630521000-1630530000@www.catholicmemorial.net
SUMMARY:All School Parents' Night
DESCRIPTION:
URL:https://www.catholicmemorial.net/event/all-school-parents-night/
CATEGORIES:General Events
END:VEVENT
BEGIN:VEVENT
DTSTART;TZID=UTC:20210821T190000
DTEND;TZID=UTC:20210821T210000
DTSTAMP:20260424T131256
CREATED:20210818T211303Z
LAST-MODIFIED:20210818T211544Z
UID:10000202-1629572400-1629579600@www.catholicmemorial.net
SUMMARY:Freshman/New Student Welcome Dance
DESCRIPTION:
URL:https://www.catholicmemorial.net/event/freshman-new-student-welcome-dance/
CATEGORIES:General Events,Homepage Events
END:VEVENT
BEGIN:VEVENT
DTSTART;VALUE=DATE:20210817
DTEND;VALUE=DATE:20210818
DTSTAMP:20260424T131256
CREATED:20210626T044946Z
LAST-MODIFIED:20210626T044946Z
UID:10000201-1629158400-1629244799@www.catholicmemorial.net
SUMMARY:First Full Day of School and All School Mass
DESCRIPTION:Welcome back! We will be excited to see familiar faces and welcome new ones as we start the 2021 – 2022 school year.
URL:https://www.catholicmemorial.net/event/first-full-day-of-school-and-all-school-mass/
LOCATION:Catholic Memorial High School\, 601 E. College Avenue\, Waukesha\, WI\, 53186
CATEGORIES:General Events,Homepage Events
END:VEVENT
BEGIN:VEVENT
DTSTART;TZID=UTC:20210816T072500
DTEND;TZID=UTC:20210816T123000
DTSTAMP:20260424T131256
CREATED:20210626T044832Z
LAST-MODIFIED:20210723T005836Z
UID:10000200-1629098700-1629117000@www.catholicmemorial.net
SUMMARY:Freshman & New Student Liturgy & Orientation
DESCRIPTION:Families of incoming freshmen and new students are welcome to Catholic Memorial High School for liturgy and orientation. No Bus Service Available. \n 
URL:https://www.catholicmemorial.net/event/freshman-new-student-liturgy-orientation/
LOCATION:Catholic Memorial High School\, 601 E. College Avenue\, Waukesha\, WI\, 53186
CATEGORIES:General Events,Homepage Events
END:VEVENT
BEGIN:VEVENT
DTSTART;TZID=UTC:20210812T120000
DTEND;TZID=UTC:20210812T180000
DTSTAMP:20260424T131256
CREATED:20210626T044621Z
LAST-MODIFIED:20210626T044621Z
UID:10000199-1628769600-1628791200@www.catholicmemorial.net
SUMMARY:Back to School Day
DESCRIPTION:Join us as we welcome everyone back to school! \nMeet your teachers\, faculty\, and friends. \nThe event will be held in the CMH InPro Athletic Center.
URL:https://www.catholicmemorial.net/event/back-to-school-day/
LOCATION:Catholic Memorial High School\, 601 E. College Avenue\, Waukesha\, WI\, 53186
CATEGORIES:General Events,Homepage Events
END:VEVENT
BEGIN:VEVENT
DTSTART;TZID=UTC:20210717T150000
DTEND;TZID=UTC:20210718T000000
DTSTAMP:20260424T131256
CREATED:20210505T203203Z
LAST-MODIFIED:20210626T045310Z
UID:10000189-1626534000-1626566400@www.catholicmemorial.net
SUMMARY:Class of 1971 - 50th Reunion
DESCRIPTION:  \nSATURDAY\, JULY 17\, 2021\nIt’s time to celebrate 50 years since our graduation from Catholic Memorial High School!  \nWhere: Thunder Bay Grille\, Pewaukee\, WI\n\nAddress: N14W24130 Tower Pl\, Pewaukee\, WI 53072 – Get Directions \nSchedule\n3:00 pm – Tour CMH\n5:00 pm – Meet & Greet – Cocktails\n6:30 – Buffet Dinner\n7:30-Midnight – Chill & Mingle \nCost: $55 per person \nA block of rooms are reserved at:\nWildwood Lodge 262-506-2000 and Holiday Inn Pewaukee 1-888-465-4329 \n  \nRSVP HERE\n  \nCMH 50th Reunion Planning Committee\nKen Lewicki – klewicki3@yahoo.com – 414-491-8538\nMary Ellen Aspenson – measpenson@gmail.com – 262-894-7009\nDenny Beres – dennyb@elverpermit.com – 608-575-9537\nJackie Nienow – jmnienow@gmail.com – 802-388-2243\nGreg Melendes – greg_melendes@ntm.org – 719-313-2437
URL:https://www.catholicmemorial.net/event/class-of-1971-50th-reunion/
CATEGORIES:General Events,Homepage Events,Reunions
ATTACH;FMTTYPE=image/jpeg:https://www.catholicmemorial.net/wp-content/uploads/2021/05/class-of-1971-reunion-banner.jpg
END:VEVENT
BEGIN:VEVENT
DTSTART;TZID=UTC:20210630T133000
DTEND;TZID=UTC:20210630T153000
DTSTAMP:20260424T131256
CREATED:20210626T044421Z
LAST-MODIFIED:20210628T202754Z
UID:10000198-1625059800-1625067000@www.catholicmemorial.net
SUMMARY:WIAA D2 State Baseball Games
DESCRIPTION:2021 State Baseball Tournament \nWednesday\, June 30 – Grand Chute\nNeuroscience Group Field at Fox Cities Stadium\, Grand Chute\, WI \nTickets:  $11 cash per session; $12 with credit card\nDaily pass $20           4-Day Ticket for Appleton $60 \nNote – the higher seeded team will be the home team on the scoreboard.  The first school alphabetically will have the first base dugout. \nDivision 2 Semifinals – 11:05 a.m. and approx. 1:30 p.m.\nGame 1 – #1 Denmark vs. #4 Rice Lake\nGame 2 – #2 Catholic Memorial vs. #3 Jefferson \nDivision 2 Final – 6:05 p.m. \n 
URL:https://www.catholicmemorial.net/event/wiaa-d2-state-baseball-games/
CATEGORIES:General Events,Homepage Events
END:VEVENT
BEGIN:VEVENT
DTSTART;TZID=UTC:20210630T100000
DTEND;TZID=UTC:20210630T200000
DTSTAMP:20260424T131256
CREATED:20210626T040414Z
LAST-MODIFIED:20210626T041324Z
UID:10000197-1625047200-1625083200@www.catholicmemorial.net
SUMMARY:WIAA D2 State Softball Games
DESCRIPTION:  \n2021 State Softball Tournament\nMonday-Wednesday\, June 28-30\nBay Port High School & UW-Green Bay* \nDue to venue capacity\, there will be NO General Admission ticket sales.  Each team has a 300 ticket allowance for pre-sale. \nWednesday\, June 30 – all games @ UW-Green Bay (Bay Port H.S. if needed)\nDivision 2 Semifinals\n#1 Jefferson (26-0) vs. #4 Catholic Memorial (19-9) – 10 a.m.\n#2 Baldwin-Woodville (21-0) vs. #3 Marinette (20-5) – Noon\nDivision 1 Championship – 3 p.m.\nDivision 2 Championship – 6 p.m. \nFor more information: https://wiaawi.org/Sports/Spring/Softball/Tournament
URL:https://www.catholicmemorial.net/event/wiaa-d2-state-softball-games/
CATEGORIES:General Events,Homepage Events
ATTACH;FMTTYPE=image/jpeg:https://www.catholicmemorial.net/wp-content/uploads/2021/06/Softball-Tournament-Logo.jpg
END:VEVENT
BEGIN:VEVENT
DTSTART;TZID=UTC:20210626T090000
DTEND;TZID=UTC:20210626T150000
DTSTAMP:20260424T131256
CREATED:20210626T040055Z
LAST-MODIFIED:20210626T041413Z
UID:10000196-1624698000-1624719600@www.catholicmemorial.net
SUMMARY:WIAA D2 State Boys Tennis
DESCRIPTION:The 26th Wisconsin Interscholastic Athletic Association Boys Team Tennis Tournament will be held Friday and Saturday\, June 25-26. The meet takes place at two locations. The Division 1 tournament will be held at the Menards Tennis Center in Eau Claire\, Wis.\, and the Division 2 tournament will be conducted at the Sports Core in Kohler\, Wis. Action will begin at 10 a.m. Friday and will resume at 9 a.m. Saturday. There will be a limit of four tickets per competition. Tickets will be sold at the venue Eau Claire. At Kohler\, tickets must be purchased online only through participant schools. Ticket prices are $9 per session. \nDivision 2 – Semifinals (June 26)\n#1 Catholic Memorial (16-4) vs. #4 Aquinas (7-2) – 9 a.m. \nDivision 2 – Championship (June 26)\nWinners of Semifinals Matches – 1:30 p.m. \nGo here for more information: https://wiaawi.org/Sports/Spring/Boys-Tennis/News/state-boys-team-tennis-tournament-preview-9 \n 
URL:https://www.catholicmemorial.net/event/wiaa-d2-state-boys-tennis/
CATEGORIES:Homepage Events
ATTACH;FMTTYPE=image/png:https://www.catholicmemorial.net/wp-content/uploads/2021/06/WIAA-State-Tennis-Meet.png
END:VEVENT
END:VCALENDAR